Name | Last modified | Size | Description | |
---|---|---|---|---|
Parent Directory | - | |||
install-summary.dcf | 14-Apr-2022 01:06 | 650 | ||
install-out.txt | 14-Apr-2022 01:06 | 9.8K | ||
checksrc-summary.dcf | 14-Apr-2022 01:06 | 466 | ||
checksrc-out.txt | 14-Apr-2022 01:06 | 4.8K | ||
buildsrc-summary.dcf | 14-Apr-2022 01:06 | 463 | ||
buildsrc-out.txt | 14-Apr-2022 01:06 | 882 | ||
buildbin-summary.dcf | 14-Apr-2022 01:06 | 546 | ||
buildbin-out.txt | 14-Apr-2022 01:06 | 9.0K | ||