Back to Multiple platform build/check report for BioC 3.14
AB[C]DEFGHIJKLMNOPQRSTUVWXYZ

This page was generated on 2021-12-06 13:04:27 -0500 (Mon, 06 Dec 2021).

All results for package CNVfilteR

To the developers/maintainers of the CNVfilteR package:
- Please allow up to 24 hours (and sometimes 48 hours) for your latest push to git@git.bioconductor.org:packages/CNVfilteR.git to
reflect on this report. See How and When does the builder pull? When will my changes propagate? here for more information.
- Make sure to use the following settings in order to reproduce any error or warning you see on this page.

raw results

Package 356/2083HostnameOS / ArchINSTALLBUILDCHECKBUILD BIN
CNVfilteR 1.8.0  (landing page)
Jose Marcos Moreno-Cabrera
Snapshot Date: 2021-12-05 01:55:05 -0500 (Sun, 05 Dec 2021)
git_url: https://git.bioconductor.org/packages/CNVfilteR
git_branch: RELEASE_3_14
git_last_commit: f09ee78
git_last_commit_date: 2021-10-26 12:54:56 -0500 (Tue, 26 Oct 2021)
nebbiolo2Linux (Ubuntu 20.04.3 LTS) / x86_64  OK    OK    OK  UNNEEDED, same version is already published
tokay2Windows Server 2012 R2 Standard / x64  OK    OK    OK    OK  UNNEEDED, same version is already published
machv2macOS 10.14.6 Mojave / x86_64  OK    OK    OK    OK  UNNEEDED, same version is already published