Name | Last modified | Size | Description | |
---|---|---|---|---|
Parent Directory | - | |||
install-summary.dcf | 14-Apr-2022 01:07 | 263 | ||
install-out.txt | 14-Apr-2022 01:07 | 27K | ||
checksrc-summary.dcf | 14-Apr-2022 01:07 | 438 | ||
checksrc-out.txt | 14-Apr-2022 01:07 | 6.9K | ||
buildsrc-summary.dcf | 14-Apr-2022 01:07 | 419 | ||
buildsrc-out.txt | 14-Apr-2022 01:07 | 897 | ||
buildbin-summary.dcf | 14-Apr-2022 01:07 | 512 | ||
buildbin-out.txt | 14-Apr-2022 01:07 | 27K | ||