Name | Last modified | Size | Description | |
---|---|---|---|---|
Parent Directory | - | |||
install-summary.dcf | 14-Apr-2022 01:06 | 301 | ||
buildsrc-summary.dcf | 14-Apr-2022 01:06 | 470 | ||
checksrc-summary.dcf | 14-Apr-2022 01:06 | 470 | ||
buildbin-summary.dcf | 14-Apr-2022 01:06 | 547 | ||
buildsrc-out.txt | 14-Apr-2022 01:06 | 856 | ||
install-out.txt | 14-Apr-2022 01:06 | 1.9K | ||
buildbin-out.txt | 14-Apr-2022 01:06 | 2.0K | ||
checksrc-out.txt | 14-Apr-2022 01:06 | 3.4K | ||