Index of /checkResults/3.14/bioc-LATEST/CHETAH/raw-results/tokay2
Name
Last modified
Size
Description
Parent Directory
-
install-out.txt
14-Apr-2022 01:06
2.7K
install-summary.dcf
14-Apr-2022 01:06
631
buildsrc-out.txt
14-Apr-2022 01:06
1.1K
buildsrc-summary.dcf
14-Apr-2022 01:06
371