Back to Multiple platform build/check report for BioC 3.14
AB[C]DEFGHIJKLMNOPQRSTUVWXYZ

This page was generated on 2021-10-14 12:05:27 -0400 (Thu, 14 Oct 2021).

BUILD BIN results for CGHregions on riesling1

To the developers/maintainers of the CGHregions package:
- Please allow up to 24 hours (and sometimes 48 hours) for your latest push to git@git.bioconductor.org:packages/CGHregions.git to
reflect on this report. See How and When does the builder pull? When will my changes propagate? here for more information.
- Make sure to use the following settings in order to reproduce any error or warning you see on this page.

raw results

Package 283/2056HostnameOS / ArchINSTALLBUILDCHECKBUILD BIN
CGHregions 1.51.0  (landing page)
Sjoerd Vosse
Snapshot Date: 2021-10-13 14:50:09 -0400 (Wed, 13 Oct 2021)
git_url: https://git.bioconductor.org/packages/CGHregions
git_branch: master
git_last_commit: 74a9831
git_last_commit_date: 2021-05-19 11:41:00 -0400 (Wed, 19 May 2021)
nebbiolo2Linux (Ubuntu 20.04.2 LTS) / x86_64  OK    OK    OK  UNNEEDED, same version is already published
riesling1Windows Server 2019 Standard / x64  OK    OK    OK    OK  UNNEEDED, same version is already published
merida1macOS 10.14.6 Mojave / x86_64  OK    OK    OK    OK  UNNEEDED, same version is already published

Summary

Package: CGHregions
Version: 1.51.0
Command: rm -rf CGHregions.buildbin-libdir && mkdir CGHregions.buildbin-libdir && D:\biocbuild\bbs-3.14-bioc\R\bin\R.exe CMD INSTALL --merge-multiarch --build --library=CGHregions.buildbin-libdir CGHregions_1.51.0.tar.gz
StartedAt: 2021-10-14 04:49:46 -0400 (Thu, 14 Oct 2021)
EndedAt: 2021-10-14 04:53:49 -0400 (Thu, 14 Oct 2021)
EllapsedTime: 242.5 seconds
RetCode: 0
Status:   OK  
PackageFile: CGHregions_1.51.0.zip
PackageFileSize: 177.8 KiB

Command output

##############################################################################
##############################################################################
###
### Running command:
###
###   rm -rf CGHregions.buildbin-libdir && mkdir CGHregions.buildbin-libdir && D:\biocbuild\bbs-3.14-bioc\R\bin\R.exe CMD INSTALL --merge-multiarch --build --library=CGHregions.buildbin-libdir CGHregions_1.51.0.tar.gz
###
##############################################################################
##############################################################################



install for i386

* installing *source* package 'CGHregions' ...
** using staged installation
** R
** inst
** byte-compile and prepare package for lazy loading
** help
*** installing help indices
  converting help for package 'CGHregions'
    finding HTML links ... done
    CGHregions-package                      html  
    CGHregions                              html  
** building package indices
** installing vignettes
** testing if installed package can be loaded from temporary location
** testing if installed package can be loaded from final location
** testing if installed package keeps a record of temporary installation path

install for x64

* installing *source* package 'CGHregions' ...
** testing if installed package can be loaded
* MD5 sums
packaged installation of 'CGHregions' as CGHregions_1.51.0.zip
* DONE (CGHregions)