Name | Last modified | Size | Description | |
---|---|---|---|---|
Parent Directory | - | |||
buildbin-summary.dcf | 14-Apr-2022 01:07 | 547 | ||
buildbin-out.txt | 14-Apr-2022 01:07 | 1.2K | ||
checksrc-out.txt | 14-Apr-2022 01:07 | 4.4K | ||
checksrc-summary.dcf | 14-Apr-2022 01:07 | 455 | ||
buildsrc-summary.dcf | 14-Apr-2022 01:07 | 436 | ||
buildsrc-out.txt | 14-Apr-2022 01:07 | 828 | ||
install-summary.dcf | 14-Apr-2022 01:07 | 275 | ||
install-out.txt | 14-Apr-2022 01:07 | 1.0K | ||