Back to Multiple platform build/check report for BioC 3.14
AB[C]DEFGHIJKLMNOPQRSTUVWXYZ

This page was generated on 2021-10-25 14:06:09 -0400 (Mon, 25 Oct 2021).

BUILD results for CGHcall on riesling1

To the developers/maintainers of the CGHcall package:
- Please allow up to 24 hours (and sometimes 48 hours) for your latest push to git@git.bioconductor.org:packages/CGHcall.git to
reflect on this report. See How and When does the builder pull? When will my changes propagate? here for more information.
- Make sure to use the following settings in order to reproduce any error or warning you see on this page.

raw results

Package 287/2083HostnameOS / ArchINSTALLBUILDCHECKBUILD BIN
CGHcall 2.55.0  (landing page)
Mark van de Wiel
Snapshot Date: 2021-10-24 14:50:04 -0400 (Sun, 24 Oct 2021)
git_url: https://git.bioconductor.org/packages/CGHcall
git_branch: master
git_last_commit: 9962ce2
git_last_commit_date: 2021-05-19 11:39:33 -0400 (Wed, 19 May 2021)
nebbiolo2Linux (Ubuntu 20.04.2 LTS) / x86_64  OK    OK    WARNINGS  UNNEEDED, same version is already published
riesling1Windows Server 2019 Standard / x64  OK    OK    WARNINGS    OK  UNNEEDED, same version is already published
merida1macOS 10.14.6 Mojave / x86_64  OK    OK    WARNINGS    OK  UNNEEDED, same version is already published
machv2macOS 10.14.6 Mojave / x86_64  OK    OK    WARNINGS    OK  

Summary

Package: CGHcall
Version: 2.55.0
Command: chmod a+r CGHcall -R && D:\biocbuild\bbs-3.14-bioc\R\bin\R.exe CMD build --keep-empty-dirs --no-resave-data CGHcall
StartedAt: 2021-10-24 20:03:17 -0400 (Sun, 24 Oct 2021)
EndedAt: 2021-10-24 20:07:44 -0400 (Sun, 24 Oct 2021)
EllapsedTime: 267.4 seconds
RetCode: 0
Status:   OK  
PackageFile: CGHcall_2.55.0.tar.gz
PackageFileSize: 371.4 KiB

Command output

##############################################################################
##############################################################################
###
### Running command:
###
###   chmod a+r CGHcall -R && D:\biocbuild\bbs-3.14-bioc\R\bin\R.exe CMD build --keep-empty-dirs --no-resave-data CGHcall
###
##############################################################################
##############################################################################


* checking for file 'CGHcall/DESCRIPTION' ... OK
* preparing 'CGHcall':
* checking DESCRIPTION meta-information ... OK
* installing the package to build vignettes
* creating vignettes ... OK
* checking for LF line-endings in source and make files and shell scripts
* checking for empty or unneeded directories
* looking to see if a 'data/datalist' file should be added
* building 'CGHcall_2.55.0.tar.gz'