Index of /checkResults/3.14/bioc-LATEST/CGHbase/raw-results

[ICO]NameLast modifiedSizeDescription

[DIR]Parent Directory  -  
[   ]info.dcf26-Oct-2021 03:07 268  
[DIR]machv2/26-Oct-2021 03:07 -  
[DIR]merida1/26-Oct-2021 03:06 -  
[DIR]nebbiolo2/26-Oct-2021 03:05 -  
[DIR]riesling1/26-Oct-2021 03:06 -