Back to Multiple platform build/check report for BioC 3.14
AB[C]DEFGHIJKLMNOPQRSTUVWXYZ

This page was generated on 2021-10-25 14:06:52 -0400 (Mon, 25 Oct 2021).

BUILD BIN results for CGHbase on merida1

To the developers/maintainers of the CGHbase package:
- Please allow up to 24 hours (and sometimes 48 hours) for your latest push to git@git.bioconductor.org:packages/CGHbase.git to
reflect on this report. See How and When does the builder pull? When will my changes propagate? here for more information.
- Make sure to use the following settings in order to reproduce any error or warning you see on this page.

raw results

Package 286/2083HostnameOS / ArchINSTALLBUILDCHECKBUILD BIN
CGHbase 1.53.0  (landing page)
Mark van de Wiel
Snapshot Date: 2021-10-24 14:50:04 -0400 (Sun, 24 Oct 2021)
git_url: https://git.bioconductor.org/packages/CGHbase
git_branch: master
git_last_commit: a8d3c92
git_last_commit_date: 2021-05-19 11:40:57 -0400 (Wed, 19 May 2021)
nebbiolo2Linux (Ubuntu 20.04.2 LTS) / x86_64  OK    OK    OK  UNNEEDED, same version is already published
riesling1Windows Server 2019 Standard / x64  OK    OK    OK    OK  UNNEEDED, same version is already published
merida1macOS 10.14.6 Mojave / x86_64  OK    OK    OK    OK  UNNEEDED, same version is already published
machv2macOS 10.14.6 Mojave / x86_64  OK    OK    OK    OK  

Summary

Package: CGHbase
Version: 1.53.0
Command: rm -rf CGHbase.buildbin-libdir && mkdir CGHbase.buildbin-libdir && /Users/biocbuild/BBS/utils/build-universal.sh CGHbase_1.53.0.tar.gz /Library/Frameworks/R.framework/Resources/bin/R CGHbase.buildbin-libdir
StartedAt: 2021-10-25 10:59:16 -0400 (Mon, 25 Oct 2021)
EndedAt: 2021-10-25 11:00:18 -0400 (Mon, 25 Oct 2021)
EllapsedTime: 62.1 seconds
RetCode: 0
Status:   OK  
PackageFile: CGHbase_1.53.0.tgz
PackageFileSize: 1.045 MiB

Command output

##############################################################################
##############################################################################
###
### Running command:
###
###   rm -rf CGHbase.buildbin-libdir && mkdir CGHbase.buildbin-libdir && /Users/biocbuild/BBS/utils/build-universal.sh CGHbase_1.53.0.tar.gz /Library/Frameworks/R.framework/Resources/bin/R CGHbase.buildbin-libdir
###
##############################################################################
##############################################################################


>>>>>>> 
>>>>>>> INSTALLATION WITH 'R CMD INSTALL --preclean --no-multiarch --library=CGHbase.buildbin-libdir CGHbase_1.53.0.tar.gz'
>>>>>>> 

* installing *source* package ‘CGHbase’ ...
** using staged installation
** R
** data
** byte-compile and prepare package for lazy loading
** help
*** installing help indices
** building package indices
** testing if installed package can be loaded from temporary location
** testing if installed package can be loaded from final location
** testing if installed package keeps a record of temporary installation path
* DONE (CGHbase)