![]() | Name | Last modified | Size | Description |
---|---|---|---|---|
![]() | Parent Directory | - | ||
![]() | install-out.txt | 14-Apr-2022 01:05 | 951 | |
![]() | install-summary.dcf | 14-Apr-2022 01:05 | 266 | |
![]() | buildsrc-out.txt | 14-Apr-2022 01:05 | 821 | |
![]() | buildsrc-summary.dcf | 14-Apr-2022 01:05 | 427 | |
![]() | checksrc-out.txt | 14-Apr-2022 01:05 | 3.2K | |
![]() | checksrc-summary.dcf | 14-Apr-2022 01:05 | 437 | |