Name | Last modified | Size | Description | |
---|---|---|---|---|
Parent Directory | - | |||
buildbin-out.txt | 14-Apr-2022 01:07 | 3.7K | ||
buildbin-summary.dcf | 14-Apr-2022 01:07 | 613 | ||
buildsrc-out.txt | 14-Apr-2022 01:07 | 815 | ||
buildsrc-summary.dcf | 14-Apr-2022 01:07 | 468 | ||
checksrc-out.txt | 14-Apr-2022 01:07 | 6.5K | ||
checksrc-summary.dcf | 14-Apr-2022 01:07 | 499 | ||
install-out.txt | 14-Apr-2022 01:07 | 2.6K | ||
install-summary.dcf | 14-Apr-2022 01:07 | 297 | ||