![]() | Name | Last modified | Size | Description |
---|---|---|---|---|
![]() | Parent Directory | - | ||
![]() | checksrc-out.txt | 14-Apr-2022 01:06 | 3.8K | |
![]() | install-out.txt | 14-Apr-2022 01:06 | 2.4K | |
![]() | buildbin-out.txt | 14-Apr-2022 01:06 | 1.6K | |
![]() | buildsrc-out.txt | 14-Apr-2022 01:06 | 895 | |
![]() | install-summary.dcf | 14-Apr-2022 01:06 | 730 | |
![]() | buildbin-summary.dcf | 14-Apr-2022 01:06 | 599 | |
![]() | checksrc-summary.dcf | 14-Apr-2022 01:06 | 501 | |
![]() | buildsrc-summary.dcf | 14-Apr-2022 01:06 | 498 | |