![]() | Name | Last modified | Size | Description |
---|---|---|---|---|
![]() | Parent Directory | - | ||
![]() | install-summary.dcf | 14-Apr-2022 01:05 | 278 | |
![]() | install-out.txt | 14-Apr-2022 01:05 | 1.0K | |
![]() | checksrc-summary.dcf | 14-Apr-2022 01:05 | 463 | |
![]() | checksrc-out.txt | 14-Apr-2022 01:05 | 3.3K | |
![]() | buildsrc-summary.dcf | 14-Apr-2022 01:05 | 446 | |
![]() | buildsrc-out.txt | 14-Apr-2022 01:05 | 846 | |