Name | Last modified | Size | Description | |
---|---|---|---|---|
Parent Directory | - | |||
install-summary.dcf | 14-Apr-2022 01:07 | 277 | ||
install-out.txt | 14-Apr-2022 01:07 | 902 | ||
checksrc-summary.dcf | 14-Apr-2022 01:07 | 459 | ||
checksrc-out.txt | 14-Apr-2022 01:07 | 2.3K | ||
buildsrc-summary.dcf | 14-Apr-2022 01:07 | 375 | ||
buildsrc-out.txt | 14-Apr-2022 01:07 | 834 | ||
buildbin-summary.dcf | 14-Apr-2022 01:07 | 553 | ||
buildbin-out.txt | 14-Apr-2022 01:07 | 1.1K | ||