Name | Last modified | Size | Description | |
---|---|---|---|---|
Parent Directory | - | |||
buildsrc-summary.dcf | 14-Apr-2022 01:06 | 466 | ||
checksrc-summary.dcf | 14-Apr-2022 01:06 | 470 | ||
buildbin-summary.dcf | 14-Apr-2022 01:06 | 551 | ||
install-summary.dcf | 14-Apr-2022 01:06 | 658 | ||
buildsrc-out.txt | 14-Apr-2022 01:06 | 855 | ||
buildbin-out.txt | 14-Apr-2022 01:06 | 1.9K | ||
install-out.txt | 14-Apr-2022 01:06 | 2.5K | ||
checksrc-out.txt | 14-Apr-2022 01:06 | 3.8K | ||