Name | Last modified | Size | Description | |
---|---|---|---|---|
Parent Directory | - | |||
buildsrc-summary.dcf | 14-Apr-2022 01:06 | 478 | ||
checksrc-summary.dcf | 14-Apr-2022 01:06 | 482 | ||
buildbin-summary.dcf | 14-Apr-2022 01:06 | 569 | ||
install-summary.dcf | 14-Apr-2022 01:06 | 685 | ||
buildsrc-out.txt | 14-Apr-2022 01:06 | 902 | ||
checksrc-out.txt | 14-Apr-2022 01:06 | 4.7K | ||
buildbin-out.txt | 14-Apr-2022 01:06 | 30K | ||
install-out.txt | 14-Apr-2022 01:06 | 31K | ||