Name | Last modified | Size | Description | |
---|---|---|---|---|
Parent Directory | - | |||
install-summary.dcf | 14-Apr-2022 01:07 | 279 | ||
install-out.txt | 14-Apr-2022 01:07 | 11K | ||
checksrc-summary.dcf | 14-Apr-2022 01:07 | 464 | ||
checksrc-out.txt | 14-Apr-2022 01:07 | 3.2K | ||
buildsrc-summary.dcf | 14-Apr-2022 01:07 | 443 | ||
buildsrc-out.txt | 14-Apr-2022 01:07 | 866 | ||
buildbin-summary.dcf | 14-Apr-2022 01:07 | 560 | ||
buildbin-out.txt | 14-Apr-2022 01:07 | 12K | ||