Back to Multiple platform build/check report for BioC 3.14
A[B]CDEFGHIJKLMNOPQRSTUVWXYZ

This page was generated on 2022-01-21 13:06:02 -0500 (Fri, 21 Jan 2022).

HostnameOSArch (*)R versionInstalled pkgs
nebbiolo2Linux (Ubuntu 20.04.4 LTS)x86_644.1.2 (2021-11-01) -- "Bird Hippie" 4329
tokay2Windows Server 2012 R2 Standardx644.1.2 (2021-11-01) -- "Bird Hippie" 4079
machv2macOS 10.14.6 Mojavex86_644.1.2 (2021-11-01) -- "Bird Hippie" 4140
Click on any hostname to see more info about the system (e.g. compilers)      (*) as reported by 'uname -p', except on Windows and Mac OS X

BUILD BIN results for BioPlex on tokay2


To the developers/maintainers of the BioPlex package:
- Please allow up to 24 hours (and sometimes 48 hours) for your latest push to git@git.bioconductor.org:packages/BioPlex.git to
reflect on this report. See How and When does the builder pull? When will my changes propagate? here for more information.
- Make sure to use the following settings in order to reproduce any error or warning you see on this page.

raw results

Package 190/2083HostnameOS / ArchINSTALLBUILDCHECKBUILD BIN
BioPlex 1.0.1  (landing page)
Ludwig Geistlinger
Snapshot Date: 2022-01-20 01:55:04 -0500 (Thu, 20 Jan 2022)
git_url: https://git.bioconductor.org/packages/BioPlex
git_branch: RELEASE_3_14
git_last_commit: 68b42b2
git_last_commit_date: 2021-10-29 12:05:32 -0500 (Fri, 29 Oct 2021)
nebbiolo2Linux (Ubuntu 20.04.4 LTS) / x86_64  OK    OK    OK  UNNEEDED, same version is already published
tokay2Windows Server 2012 R2 Standard / x64  OK    OK    OK    OK  UNNEEDED, same version is already published
machv2macOS 10.14.6 Mojave / x86_64  OK    OK    OK    OK  UNNEEDED, same version is already published

Summary

Package: BioPlex
Version: 1.0.1
Command: rm -rf BioPlex.buildbin-libdir && mkdir BioPlex.buildbin-libdir && C:\Users\biocbuild\bbs-3.14-bioc\R\bin\R.exe CMD INSTALL --merge-multiarch --build --library=BioPlex.buildbin-libdir BioPlex_1.0.1.tar.gz
StartedAt: 2022-01-21 05:38:39 -0500 (Fri, 21 Jan 2022)
EndedAt: 2022-01-21 05:40:02 -0500 (Fri, 21 Jan 2022)
EllapsedTime: 83.1 seconds
RetCode: 0
Status:   OK  
PackageFile: BioPlex_1.0.1.zip
PackageFileSize: 691.2 KiB

Command output

##############################################################################
##############################################################################
###
### Running command:
###
###   rm -rf BioPlex.buildbin-libdir && mkdir BioPlex.buildbin-libdir && C:\Users\biocbuild\bbs-3.14-bioc\R\bin\R.exe CMD INSTALL --merge-multiarch --build --library=BioPlex.buildbin-libdir BioPlex_1.0.1.tar.gz
###
##############################################################################
##############################################################################



install for i386

* installing *source* package 'BioPlex' ...
** using staged installation
** R
** inst
** byte-compile and prepare package for lazy loading
** help
*** installing help indices
  converting help for package 'BioPlex'
    finding HTML links ... done
    annotatePFAM                            html  
    finding level-2 HTML links ... done

    bioplex2graph                           html  
    ccleProteome2SummarizedExperiment       html  
    corum2graphlist                         html  
    corum2list                              html  
    getBioPlex                              html  
    getBioplexProteome                      html  
    getCorum                                html  
    getGSE122425                            html  
    hasSubunit                              html  
    mapSummarizedExperimentOntoGraph        html  
** building package indices
** installing vignettes
** testing if installed package can be loaded from temporary location
** testing if installed package can be loaded from final location
** testing if installed package keeps a record of temporary installation path

install for x64

* installing *source* package 'BioPlex' ...
** testing if installed package can be loaded
* MD5 sums
packaged installation of 'BioPlex' as BioPlex_1.0.1.zip
* DONE (BioPlex)