Back to Multiple platform build/check report for BioC 3.14
A[B]CDEFGHIJKLMNOPQRSTUVWXYZ

This page was generated on 2022-01-24 13:07:20 -0500 (Mon, 24 Jan 2022).

HostnameOSArch (*)R versionInstalled pkgs
nebbiolo2Linux (Ubuntu 20.04.4 LTS)x86_644.1.2 (2021-11-01) -- "Bird Hippie" 4329
tokay2Windows Server 2012 R2 Standardx644.1.2 (2021-11-01) -- "Bird Hippie" 4080
machv2macOS 10.14.6 Mojavex86_644.1.2 (2021-11-01) -- "Bird Hippie" 4141
Click on any hostname to see more info about the system (e.g. compilers)      (*) as reported by 'uname -p', except on Windows and Mac OS X

CHECK results for BioPlex on machv2


To the developers/maintainers of the BioPlex package:
- Please allow up to 24 hours (and sometimes 48 hours) for your latest push to git@git.bioconductor.org:packages/BioPlex.git to
reflect on this report. See How and When does the builder pull? When will my changes propagate? here for more information.
- Make sure to use the following settings in order to reproduce any error or warning you see on this page.

raw results

Package 190/2083HostnameOS / ArchINSTALLBUILDCHECKBUILD BIN
BioPlex 1.0.1  (landing page)
Ludwig Geistlinger
Snapshot Date: 2022-01-23 01:55:04 -0500 (Sun, 23 Jan 2022)
git_url: https://git.bioconductor.org/packages/BioPlex
git_branch: RELEASE_3_14
git_last_commit: 68b42b2
git_last_commit_date: 2021-10-29 12:05:32 -0500 (Fri, 29 Oct 2021)
nebbiolo2Linux (Ubuntu 20.04.4 LTS) / x86_64  OK    OK    OK  UNNEEDED, same version is already published
tokay2Windows Server 2012 R2 Standard / x64  OK    OK    OK    OK  UNNEEDED, same version is already published
machv2macOS 10.14.6 Mojave / x86_64  OK    OK    OK    OK  UNNEEDED, same version is already published

Summary

Package: BioPlex
Version: 1.0.1
Command: /Library/Frameworks/R.framework/Resources/bin/R CMD check --install=check:BioPlex.install-out.txt --library=/Library/Frameworks/R.framework/Resources/library --no-vignettes --timings BioPlex_1.0.1.tar.gz
StartedAt: 2022-01-23 10:42:43 -0500 (Sun, 23 Jan 2022)
EndedAt: 2022-01-23 10:48:40 -0500 (Sun, 23 Jan 2022)
EllapsedTime: 356.3 seconds
RetCode: 0
Status:   OK  
CheckDir: BioPlex.Rcheck
Warnings: 0

Command output

##############################################################################
##############################################################################
###
### Running command:
###
###   /Library/Frameworks/R.framework/Resources/bin/R CMD check --install=check:BioPlex.install-out.txt --library=/Library/Frameworks/R.framework/Resources/library --no-vignettes --timings BioPlex_1.0.1.tar.gz
###
##############################################################################
##############################################################################


* using log directory ‘/Users/biocbuild/bbs-3.14-bioc/meat/BioPlex.Rcheck’
* using R version 4.1.2 (2021-11-01)
* using platform: x86_64-apple-darwin17.0 (64-bit)
* using session charset: UTF-8
* using option ‘--no-vignettes’
* checking for file ‘BioPlex/DESCRIPTION’ ... OK
* this is package ‘BioPlex’ version ‘1.0.1’
* package encoding: UTF-8
* checking package namespace information ... OK
* checking package dependencies ... OK
* checking if this is a source package ... OK
* checking if there is a namespace ... OK
* checking for hidden files and directories ... OK
* checking for portable file names ... OK
* checking for sufficient/correct file permissions ... OK
* checking whether package ‘BioPlex’ can be installed ... OK
* checking installed package size ... OK
* checking package directory ... OK
* checking ‘build’ directory ... OK
* checking DESCRIPTION meta-information ... OK
* checking top-level files ... OK
* checking for left-over files ... OK
* checking index information ... OK
* checking package subdirectories ... OK
* checking R files for non-ASCII characters ... OK
* checking R files for syntax errors ... OK
* checking whether the package can be loaded ... OK
* checking whether the package can be loaded with stated dependencies ... OK
* checking whether the package can be unloaded cleanly ... OK
* checking whether the namespace can be loaded with stated dependencies ... OK
* checking whether the namespace can be unloaded cleanly ... OK
* checking dependencies in R code ... OK
* checking S3 generic/method consistency ... OK
* checking replacement functions ... OK
* checking foreign function calls ... OK
* checking R code for possible problems ... NOTE
getCorum: no visible binding for global variable ‘Organism’
Undefined global functions or variables:
  Organism
* checking Rd files ... OK
* checking Rd metadata ... OK
* checking Rd cross-references ... OK
* checking for missing documentation entries ... OK
* checking for code/documentation mismatches ... OK
* checking Rd \usage sections ... OK
* checking Rd contents ... OK
* checking for unstated dependencies in examples ... OK
* checking files in ‘vignettes’ ... OK
* checking examples ... OK
Examples with CPU (user + system) or elapsed time > 5s
                                    user system elapsed
ccleProteome2SummarizedExperiment 78.130  1.492  80.954
annotatePFAM                      27.416  1.224  30.602
mapSummarizedExperimentOntoGraph  11.131  0.319  11.570
bioplex2graph                     10.163  0.260  10.493
hasSubunit                         8.942  0.144   9.213
corum2graphlist                    8.820  0.262   9.319
* checking for unstated dependencies in vignettes ... OK
* checking package vignettes in ‘inst/doc’ ... OK
* checking running R code from vignettes ... SKIPPED
* checking re-building of vignette outputs ... SKIPPED
* checking PDF version of manual ... OK
* DONE

Status: 1 NOTE
See
  ‘/Users/biocbuild/bbs-3.14-bioc/meat/BioPlex.Rcheck/00check.log’
for details.



Installation output

BioPlex.Rcheck/00install.out

##############################################################################
##############################################################################
###
### Running command:
###
###   /Library/Frameworks/R.framework/Resources/bin/R CMD INSTALL BioPlex
###
##############################################################################
##############################################################################


* installing to library ‘/Library/Frameworks/R.framework/Versions/4.1/Resources/library’
* installing *source* package ‘BioPlex’ ...
** using staged installation
** R
** inst
** byte-compile and prepare package for lazy loading
** help
*** installing help indices
** building package indices
** installing vignettes
** testing if installed package can be loaded from temporary location
** testing if installed package can be loaded from final location
** testing if installed package keeps a record of temporary installation path
* DONE (BioPlex)

Tests output


Example timings

BioPlex.Rcheck/BioPlex-Ex.timings

nameusersystemelapsed
annotatePFAM27.416 1.22430.602
bioplex2graph10.163 0.26010.493
ccleProteome2SummarizedExperiment78.130 1.49280.954
corum2graphlist8.8200.2629.319
corum2list1.4890.0431.766
getBioPlex4.1680.0974.365
getBioplexProteome1.3220.0191.428
getCorum1.4440.0441.722
getGSE1224251.3600.0281.390
hasSubunit8.9420.1449.213
mapSummarizedExperimentOntoGraph11.131 0.31911.570