Name | Last modified | Size | Description | |
---|---|---|---|---|
Parent Directory | - | |||
checksrc-out.txt | 12-Apr-2022 01:07 | 3.5K | ||
checksrc-summary.dcf | 12-Apr-2022 01:07 | 440 | ||
buildbin-out.txt | 12-Apr-2022 01:07 | 1.3K | ||
buildbin-summary.dcf | 12-Apr-2022 01:07 | 524 | ||
install-out.txt | 14-Apr-2022 01:07 | 1.2K | ||
install-summary.dcf | 14-Apr-2022 01:07 | 267 | ||
buildsrc-out.txt | 14-Apr-2022 01:07 | 2.7K | ||
buildsrc-summary.dcf | 14-Apr-2022 01:07 | 343 | ||