Name | Last modified | Size | Description | |
---|---|---|---|---|
Parent Directory | - | |||
install-out.txt | 14-Apr-2022 01:06 | 6.7K | ||
buildbin-out.txt | 14-Apr-2022 01:06 | 6.0K | ||
checksrc-out.txt | 14-Apr-2022 01:06 | 5.3K | ||
buildsrc-out.txt | 14-Apr-2022 01:06 | 891 | ||
install-summary.dcf | 14-Apr-2022 01:06 | 662 | ||
buildbin-summary.dcf | 14-Apr-2022 01:06 | 555 | ||
checksrc-summary.dcf | 14-Apr-2022 01:06 | 472 | ||
buildsrc-summary.dcf | 14-Apr-2022 01:06 | 469 | ||