Name | Last modified | Size | Description | |
---|---|---|---|---|
Parent Directory | - | |||
buildbin-out.txt | 14-Apr-2022 01:07 | 14K | ||
buildbin-summary.dcf | 14-Apr-2022 01:07 | 506 | ||
buildsrc-out.txt | 14-Apr-2022 01:07 | 830 | ||
buildsrc-summary.dcf | 14-Apr-2022 01:07 | 415 | ||
checksrc-out.txt | 14-Apr-2022 01:07 | 4.9K | ||
checksrc-summary.dcf | 14-Apr-2022 01:07 | 427 | ||
install-out.txt | 14-Apr-2022 01:07 | 13K | ||
install-summary.dcf | 14-Apr-2022 01:07 | 261 | ||