Back to Multiple platform build/check report for BioC 3.14
A[B]CDEFGHIJKLMNOPQRSTUVWXYZ

This page was generated on 2022-01-14 13:06:02 -0500 (Fri, 14 Jan 2022).

HostnameOSArch (*)R versionInstalled pkgs
nebbiolo2Linux (Ubuntu 20.04.4 LTS)x86_644.1.2 (2021-11-01) -- "Bird Hippie" 4327
tokay2Windows Server 2012 R2 Standardx644.1.2 (2021-11-01) -- "Bird Hippie" 4076
machv2macOS 10.14.6 Mojavex86_644.1.2 (2021-11-01) -- "Bird Hippie" 4137
Click on any hostname to see more info about the system (e.g. compilers)      (*) as reported by 'uname -p', except on Windows and Mac OS X

INSTALL results for BBCAnalyzer on tokay2


To the developers/maintainers of the BBCAnalyzer package:
- Please allow up to 24 hours (and sometimes 48 hours) for your latest push to git@git.bioconductor.org:packages/BBCAnalyzer.git to
reflect on this report. See How and When does the builder pull? When will my changes propagate? here for more information.
- Make sure to use the following settings in order to reproduce any error or warning you see on this page.

raw results

Package 128/2083HostnameOS / ArchINSTALLBUILDCHECKBUILD BIN
BBCAnalyzer 1.24.0  (landing page)
Sarah Sandmann
Snapshot Date: 2022-01-13 01:55:04 -0500 (Thu, 13 Jan 2022)
git_url: https://git.bioconductor.org/packages/BBCAnalyzer
git_branch: RELEASE_3_14
git_last_commit: 6516fc9
git_last_commit_date: 2021-10-26 12:22:06 -0500 (Tue, 26 Oct 2021)
nebbiolo2Linux (Ubuntu 20.04.4 LTS) / x86_64  OK    OK    OK  UNNEEDED, same version is already published
tokay2Windows Server 2012 R2 Standard / x64  OK    OK    WARNINGS    OK  UNNEEDED, same version is already published
machv2macOS 10.14.6 Mojave / x86_64  OK    OK    OK    OK  UNNEEDED, same version is already published

Summary

Package: BBCAnalyzer
Version: 1.24.0
Command: C:\cygwin\bin\curl.exe -O http://155.52.207.166/BBS/3.14/bioc/src/contrib/BBCAnalyzer_1.24.0.tar.gz && rm -rf BBCAnalyzer.buildbin-libdir && mkdir BBCAnalyzer.buildbin-libdir && C:\Users\biocbuild\bbs-3.14-bioc\R\bin\R.exe CMD INSTALL --merge-multiarch --build --library=BBCAnalyzer.buildbin-libdir BBCAnalyzer_1.24.0.tar.gz && C:\Users\biocbuild\bbs-3.14-bioc\R\bin\R.exe CMD INSTALL BBCAnalyzer_1.24.0.zip && rm BBCAnalyzer_1.24.0.tar.gz BBCAnalyzer_1.24.0.zip
StartedAt: 2022-01-13 07:13:19 -0500 (Thu, 13 Jan 2022)
EndedAt: 2022-01-13 07:15:13 -0500 (Thu, 13 Jan 2022)
EllapsedTime: 113.5 seconds
RetCode: 0
Status:   OK  

Command output

##############################################################################
##############################################################################
###
### Running command:
###
###   C:\cygwin\bin\curl.exe -O http://155.52.207.166/BBS/3.14/bioc/src/contrib/BBCAnalyzer_1.24.0.tar.gz && rm -rf BBCAnalyzer.buildbin-libdir && mkdir BBCAnalyzer.buildbin-libdir && C:\Users\biocbuild\bbs-3.14-bioc\R\bin\R.exe CMD INSTALL --merge-multiarch --build --library=BBCAnalyzer.buildbin-libdir BBCAnalyzer_1.24.0.tar.gz && C:\Users\biocbuild\bbs-3.14-bioc\R\bin\R.exe CMD INSTALL BBCAnalyzer_1.24.0.zip && rm BBCAnalyzer_1.24.0.tar.gz BBCAnalyzer_1.24.0.zip
###
##############################################################################
##############################################################################


  % Total    % Received % Xferd  Average Speed   Time    Time     Time  Current
                                 Dload  Upload   Total   Spent    Left  Speed

  0     0    0     0    0     0      0      0 --:--:-- --:--:-- --:--:--     0
 63 1798k   63 1146k    0     0  3696k      0 --:--:-- --:--:-- --:--:-- 3699k
100 1798k  100 1798k    0     0  4885k      0 --:--:-- --:--:-- --:--:-- 4887k

install for i386

* installing *source* package 'BBCAnalyzer' ...
** using staged installation
** R
** inst
** byte-compile and prepare package for lazy loading
Warning: replacing previous import 'grDevices::windows' by 'GenomicRanges::windows' when loading 'BBCAnalyzer'
** help
*** installing help indices
  converting help for package 'BBCAnalyzer'
    finding HTML links ... done
    BBCAnalyzer-package                     html  
    analyzeBases                            html  
    analyzeBasesPlotOnly                    html  
** building package indices
** installing vignettes
** testing if installed package can be loaded from temporary location
Warning: replacing previous import 'grDevices::windows' by 'GenomicRanges::windows' when loading 'BBCAnalyzer'
** testing if installed package can be loaded from final location
Warning: replacing previous import 'grDevices::windows' by 'GenomicRanges::windows' when loading 'BBCAnalyzer'
** testing if installed package keeps a record of temporary installation path

install for x64

* installing *source* package 'BBCAnalyzer' ...
** testing if installed package can be loaded
Warning: replacing previous import 'grDevices::windows' by 'GenomicRanges::windows' when loading 'BBCAnalyzer'
* MD5 sums
packaged installation of 'BBCAnalyzer' as BBCAnalyzer_1.24.0.zip
* DONE (BBCAnalyzer)
* installing to library 'C:/Users/biocbuild/bbs-3.14-bioc/R/library'
package 'BBCAnalyzer' successfully unpacked and MD5 sums checked