![]() | Name | Last modified | Size | Description |
---|---|---|---|---|
![]() | Parent Directory | - | ||
![]() | buildsrc-summary.dcf | 14-Apr-2022 01:06 | 475 | |
![]() | checksrc-summary.dcf | 14-Apr-2022 01:06 | 484 | |
![]() | buildbin-summary.dcf | 14-Apr-2022 01:06 | 563 | |
![]() | install-summary.dcf | 14-Apr-2022 01:06 | 676 | |
![]() | buildsrc-out.txt | 14-Apr-2022 01:06 | 898 | |
![]() | buildbin-out.txt | 14-Apr-2022 01:06 | 1.9K | |
![]() | install-out.txt | 14-Apr-2022 01:06 | 2.7K | |
![]() | checksrc-out.txt | 14-Apr-2022 01:06 | 8.5K | |