Name | Last modified | Size | Description | |
---|---|---|---|---|
Parent Directory | - | |||
checksrc-out.txt | 14-Apr-2022 01:05 | 4.1K | ||
install-out.txt | 14-Apr-2022 01:05 | 1.9K | ||
buildsrc-out.txt | 14-Apr-2022 01:05 | 831 | ||
checksrc-summary.dcf | 14-Apr-2022 01:05 | 418 | ||
buildsrc-summary.dcf | 14-Apr-2022 01:05 | 413 | ||
install-summary.dcf | 14-Apr-2022 01:05 | 256 | ||