Name | Last modified | Size | Description | |
---|---|---|---|---|
Parent Directory | - | |||
install-summary.dcf | 14-Apr-2022 01:07 | 267 | ||
install-out.txt | 14-Apr-2022 01:07 | 2.4K | ||
checksrc-summary.dcf | 14-Apr-2022 01:07 | 438 | ||
checksrc-out.txt | 14-Apr-2022 01:07 | 4.3K | ||
buildsrc-summary.dcf | 14-Apr-2022 01:07 | 423 | ||
buildsrc-out.txt | 14-Apr-2022 01:07 | 841 | ||
buildbin-summary.dcf | 14-Apr-2022 01:07 | 522 | ||
buildbin-out.txt | 14-Apr-2022 01:07 | 3.6K | ||