![]() | Name | Last modified | Size | Description |
---|---|---|---|---|
![]() | Parent Directory | - | ||
![]() | install-out.txt | 14-Apr-2022 01:06 | 3.0K | |
![]() | install-summary.dcf | 14-Apr-2022 01:06 | 622 | |
![]() | buildsrc-out.txt | 14-Apr-2022 01:06 | 867 | |
![]() | buildsrc-summary.dcf | 14-Apr-2022 01:06 | 450 | |
![]() | checksrc-out.txt | 14-Apr-2022 01:06 | 4.8K | |
![]() | checksrc-summary.dcf | 14-Apr-2022 01:06 | 453 | |
![]() | buildbin-out.txt | 14-Apr-2022 01:06 | 2.3K | |
![]() | buildbin-summary.dcf | 14-Apr-2022 01:06 | 526 | |