![]() | Name | Last modified | Size | Description |
---|---|---|---|---|
![]() | Parent Directory | - | ||
![]() | buildsrc-out.txt | 14-Apr-2022 01:05 | 828 | |
![]() | buildsrc-summary.dcf | 14-Apr-2022 01:05 | 411 | |
![]() | checksrc-out.txt | 14-Apr-2022 01:05 | 3.4K | |
![]() | checksrc-summary.dcf | 14-Apr-2022 01:05 | 415 | |
![]() | install-out.txt | 14-Apr-2022 01:05 | 1.3K | |
![]() | install-summary.dcf | 14-Apr-2022 01:05 | 255 | |