Index of /checkResults/3.14/bioc-LATEST/BADER/raw-results/machv2

[ICO]NameLast modifiedSizeDescription

[DIR]Parent Directory  -  
[   ]install-summary.dcf14-Apr-2022 01:07 265  
[   ]buildsrc-summary.dcf14-Apr-2022 01:07 421  
[   ]checksrc-summary.dcf14-Apr-2022 01:07 435  
[   ]buildbin-summary.dcf14-Apr-2022 01:07 517  
[TXT]buildsrc-out.txt14-Apr-2022 01:07 838  
[TXT]install-out.txt14-Apr-2022 01:07 1.6K 
[TXT]buildbin-out.txt14-Apr-2022 01:07 2.4K 
[TXT]checksrc-out.txt14-Apr-2022 01:07 3.5K