Index of /checkResults/3.14/bioc-LATEST/Autotuner/raw-results/tokay2
Name
Last modified
Size
Description
Parent Directory
-
buildsrc-out.txt
14-Apr-2022 01:06
1.1K
buildsrc-summary.dcf
14-Apr-2022 01:06
379
install-out.txt
14-Apr-2022 01:06
4.3K
install-summary.dcf
14-Apr-2022 01:06
653