Index of /checkResults/3.14/bioc-LATEST/Autotuner/raw-results/machv2
Name
Last modified
Size
Description
Parent Directory
-
buildsrc-summary.dcf
14-Apr-2022 01:07
346
buildsrc-out.txt
14-Apr-2022 01:07
1.0K
install-summary.dcf
14-Apr-2022 01:07
272
install-out.txt
14-Apr-2022 01:07
1.0K