Name | Last modified | Size | Description | |
---|---|---|---|---|
Parent Directory | - | |||
buildbin-out.txt | 14-Apr-2022 01:06 | 1.9K | ||
buildbin-summary.dcf | 14-Apr-2022 01:06 | 593 | ||
buildsrc-out.txt | 14-Apr-2022 01:06 | 927 | ||
buildsrc-summary.dcf | 14-Apr-2022 01:06 | 494 | ||
checksrc-out.txt | 14-Apr-2022 01:06 | 3.6K | ||
checksrc-summary.dcf | 14-Apr-2022 01:06 | 498 | ||
install-out.txt | 14-Apr-2022 01:06 | 2.7K | ||
install-summary.dcf | 14-Apr-2022 01:06 | 721 | ||