Name | Last modified | Size | Description | |
---|---|---|---|---|
Parent Directory | - | |||
buildsrc-out.txt | 14-Apr-2022 01:05 | 882 | ||
buildsrc-summary.dcf | 14-Apr-2022 01:05 | 444 | ||
checksrc-out.txt | 14-Apr-2022 01:05 | 3.0K | ||
checksrc-summary.dcf | 14-Apr-2022 01:05 | 459 | ||
install-out.txt | 14-Apr-2022 01:05 | 966 | ||
install-summary.dcf | 14-Apr-2022 01:05 | 277 | ||