Name | Last modified | Size | Description | |
---|---|---|---|---|
Parent Directory | - | |||
buildsrc-summary.dcf | 14-Apr-2022 01:06 | 454 | ||
checksrc-summary.dcf | 14-Apr-2022 01:06 | 457 | ||
buildbin-summary.dcf | 14-Apr-2022 01:06 | 533 | ||
install-summary.dcf | 14-Apr-2022 01:06 | 631 | ||
buildsrc-out.txt | 14-Apr-2022 01:06 | 840 | ||
buildbin-out.txt | 14-Apr-2022 01:06 | 2.2K | ||
install-out.txt | 14-Apr-2022 01:06 | 3.0K | ||
checksrc-out.txt | 14-Apr-2022 01:06 | 4.0K | ||