Name | Last modified | Size | Description | |
---|---|---|---|---|
Parent Directory | - | |||
checksrc-out.txt | 14-Apr-2022 01:07 | 3.5K | ||
buildbin-out.txt | 14-Apr-2022 01:07 | 1.2K | ||
install-out.txt | 14-Apr-2022 01:07 | 1.0K | ||
buildsrc-out.txt | 14-Apr-2022 01:07 | 812 | ||
buildbin-summary.dcf | 14-Apr-2022 01:07 | 523 | ||
checksrc-summary.dcf | 14-Apr-2022 01:07 | 439 | ||
buildsrc-summary.dcf | 14-Apr-2022 01:07 | 423 | ||
install-summary.dcf | 14-Apr-2022 01:07 | 266 | ||