![]() | Name | Last modified | Size | Description |
---|---|---|---|---|
![]() | Parent Directory | - | ||
![]() | buildbin-out.txt | 14-Apr-2022 01:06 | 2.9K | |
![]() | buildbin-summary.dcf | 14-Apr-2022 01:06 | 551 | |
![]() | buildsrc-out.txt | 14-Apr-2022 01:06 | 1.0K | |
![]() | buildsrc-summary.dcf | 14-Apr-2022 01:06 | 466 | |
![]() | checksrc-out.txt | 14-Apr-2022 01:06 | 4.6K | |
![]() | checksrc-summary.dcf | 14-Apr-2022 01:06 | 469 | |
![]() | install-out.txt | 14-Apr-2022 01:06 | 3.6K | |
![]() | install-summary.dcf | 14-Apr-2022 01:06 | 659 | |