![]() | Name | Last modified | Size | Description |
---|---|---|---|---|
![]() | Parent Directory | - | ||
![]() | buildbin-out.txt | 14-Apr-2022 01:07 | 2.6K | |
![]() | buildbin-summary.dcf | 14-Apr-2022 01:07 | 541 | |
![]() | buildsrc-out.txt | 14-Apr-2022 01:07 | 1.0K | |
![]() | buildsrc-summary.dcf | 14-Apr-2022 01:07 | 433 | |
![]() | checksrc-out.txt | 14-Apr-2022 01:07 | 4.0K | |
![]() | checksrc-summary.dcf | 14-Apr-2022 01:07 | 451 | |
![]() | install-out.txt | 14-Apr-2022 01:07 | 1.8K | |
![]() | install-summary.dcf | 14-Apr-2022 01:07 | 273 | |