Index of /checkResults/3.14/bioc-LATEST/AIMS/raw-results

[ICO]NameLast modifiedSizeDescription

[DIR]Parent Directory  -  
[   ]info.dcf21-Oct-2021 01:05 263  
[DIR]merida1/21-Oct-2021 01:05 -  
[DIR]nebbiolo2/21-Oct-2021 01:04 -  
[DIR]riesling1/21-Oct-2021 01:04 -