Name | Last modified | Size | Description | |
---|---|---|---|---|
Parent Directory | - | |||
install-summary.dcf | 14-Apr-2022 01:05 | 257 | ||
buildsrc-summary.dcf | 14-Apr-2022 01:05 | 414 | ||
checksrc-summary.dcf | 14-Apr-2022 01:05 | 419 | ||
buildsrc-out.txt | 14-Apr-2022 01:05 | 865 | ||
install-out.txt | 14-Apr-2022 01:05 | 952 | ||
checksrc-out.txt | 14-Apr-2022 01:05 | 8.7K | ||