Name | Last modified | Size | Description | |
---|---|---|---|---|
Parent Directory | - | |||
buildbin-summary.dcf | 14-Apr-2022 01:06 | 575 | ||
buildbin-out.txt | 14-Apr-2022 01:06 | 3.6K | ||
checksrc-summary.dcf | 14-Apr-2022 01:06 | 486 | ||
checksrc-out.txt | 14-Apr-2022 01:06 | 5.8K | ||
buildsrc-summary.dcf | 14-Apr-2022 01:06 | 483 | ||
buildsrc-out.txt | 14-Apr-2022 01:06 | 1.0K | ||
install-summary.dcf | 14-Apr-2022 01:06 | 694 | ||
install-out.txt | 14-Apr-2022 01:06 | 4.3K | ||