Name | Last modified | Size | Description | |
---|---|---|---|---|
Parent Directory | - | |||
install-summary.dcf | 14-Apr-2022 01:05 | 271 | ||
install-out.txt | 14-Apr-2022 01:05 | 1.7K | ||
checksrc-summary.dcf | 14-Apr-2022 01:05 | 447 | ||
checksrc-out.txt | 14-Apr-2022 01:05 | 4.2K | ||
buildsrc-summary.dcf | 14-Apr-2022 01:05 | 435 | ||
buildsrc-out.txt | 14-Apr-2022 01:05 | 955 | ||