Index of /checkResults/3.13/workflows-LATEST/eQTL/raw-results/nebbiolo1
Name
Last modified
Size
Description
Parent Directory
-
install-summary.dcf
16-Oct-2021 04:50
255
install-out.txt
16-Oct-2021 04:50
648
buildsrc-summary.dcf
16-Oct-2021 04:50
326
buildsrc-out.txt
16-Oct-2021 04:50
891