Index of /checkResults/3.13/workflows-LATEST/SingscoreAMLMutations/raw-results
Name
Last modified
Size
Description
Parent Directory
-
info.dcf
16-Oct-2021 04:50
302
nebbiolo1/
16-Oct-2021 04:50
-