Index of /checkResults/3.13/workflows-LATEST/ExpHunterSuite/raw-results/nebbiolo1
Name
Last modified
Size
Description
Parent Directory
-
buildsrc-out.txt
16-Oct-2021 04:50
833
buildsrc-summary.dcf
16-Oct-2021 04:50
437
install-out.txt
16-Oct-2021 04:50
1.0K
install-summary.dcf
16-Oct-2021 04:50
272