Back to Multiple platform build/check report for BioC 3.13 experimental data
ABCDEFGHIJKLMNOPQRSTUVWXY[Z]

INSTALL report for zebrafishRNASeq on riesling1

This page was generated on 2021-03-01 15:56:11 -0500 (Mon, 01 Mar 2021).

To the developers/maintainers of the zebrafishRNASeq package:
Please make sure to use the following settings in order to reproduce any error or warning you see on this page.
Package 391/391HostnameOS / ArchINSTALLBUILDCHECK
zebrafishRNASeq 1.11.0
Davide Risso
Snapshot Date: 2021-03-01 09:00:05 -0500 (Mon, 01 Mar 2021)
URL: https://git.bioconductor.org/packages/zebrafishRNASeq
Branch: master
Last Commit: c9e148a
Last Changed Date: 2020-10-27 10:09:13 -0500 (Tue, 27 Oct 2020)
rex3Linux (Ubuntu 20.04.2 LTS) / x86_64  OK    OK    OK  UNNEEDED, same version exists in internal repository
riesling1Windows Server 2019 Standard / x64  OK    OK    OK  

Summary

Package: zebrafishRNASeq
Version: 1.11.0
Command: C:\cygwin\bin\curl.exe -O http://155.52.173.35/BBS/3.13/data-experiment/src/contrib/zebrafishRNASeq_1.11.0.tar.gz && rm -rf zebrafishRNASeq.buildbin-libdir && mkdir zebrafishRNASeq.buildbin-libdir && D:\biocbuild\bbs-3.13-bioc\R\bin\R.exe CMD INSTALL --merge-multiarch --build --library=zebrafishRNASeq.buildbin-libdir zebrafishRNASeq_1.11.0.tar.gz && D:\biocbuild\bbs-3.13-bioc\R\bin\R.exe CMD INSTALL zebrafishRNASeq_1.11.0.zip && rm zebrafishRNASeq_1.11.0.tar.gz zebrafishRNASeq_1.11.0.zip
StartedAt: 2021-03-01 09:58:34 -0500 (Mon, 01 Mar 2021)
EndedAt: 2021-03-01 09:58:37 -0500 (Mon, 01 Mar 2021)
EllapsedTime: 2.5 seconds
RetCode: 0
Status:   OK   

Command output

##############################################################################
##############################################################################
###
### Running command:
###
###   C:\cygwin\bin\curl.exe -O http://155.52.173.35/BBS/3.13/data-experiment/src/contrib/zebrafishRNASeq_1.11.0.tar.gz && rm -rf zebrafishRNASeq.buildbin-libdir && mkdir zebrafishRNASeq.buildbin-libdir && D:\biocbuild\bbs-3.13-bioc\R\bin\R.exe CMD INSTALL --merge-multiarch --build --library=zebrafishRNASeq.buildbin-libdir zebrafishRNASeq_1.11.0.tar.gz && D:\biocbuild\bbs-3.13-bioc\R\bin\R.exe CMD INSTALL zebrafishRNASeq_1.11.0.zip && rm zebrafishRNASeq_1.11.0.tar.gz zebrafishRNASeq_1.11.0.zip
###
##############################################################################
##############################################################################


  % Total    % Received % Xferd  Average Speed   Time    Time     Time  Current
                                 Dload  Upload   Total   Spent    Left  Speed

  0     0    0     0    0     0      0      0 --:--:-- --:--:-- --:--:--     0
100  212k  100  212k    0     0  1525k      0 --:--:-- --:--:-- --:--:-- 1525k

install for i386

* installing *source* package 'zebrafishRNASeq' ...
** using staged installation
** data
** inst
** help
*** installing help indices
  converting help for package 'zebrafishRNASeq'
    finding HTML links ... done
    zfGenes                                 html  
REDIRECT:topic	 zfGenes -> zfGenes.html [ SUCCESS ]
REDIRECT:topic	 zebrafishRNASeq -> zfGenes.html [ SUCCESS ]
** building package indices
** installing vignettes
** testing if installed package can be loaded from temporary location
** testing if installed package can be loaded from final location
** testing if installed package keeps a record of temporary installation path

install for x64

* installing *source* package 'zebrafishRNASeq' ...
** testing if installed package can be loaded
* MD5 sums
packaged installation of 'zebrafishRNASeq' as zebrafishRNASeq_1.11.0.zip
* DONE (zebrafishRNASeq)
* installing to library 'D:/biocbuild/bbs-3.13-bioc/R/library'
package 'zebrafishRNASeq' successfully unpacked and MD5 sums checked