Back to Multiple platform build/check report for BioC 3.13 experimental data |
|
This page was generated on 2021-03-01 15:56:11 -0500 (Mon, 01 Mar 2021).
To the developers/maintainers of the zebrafishRNASeq package: Please make sure to use the following settings in order to reproduce any error or warning you see on this page. |
Package 391/391 | Hostname | OS / Arch | INSTALL | BUILD | CHECK | ||||||||
zebrafishRNASeq 1.11.0 Davide Risso
| rex3 | Linux (Ubuntu 20.04.2 LTS) / x86_64 | OK | OK | OK | ![]() | |||||||
riesling1 | Windows Server 2019 Standard / x64 | OK | OK | OK | |||||||||
Package: zebrafishRNASeq |
Version: 1.11.0 |
Command: chmod a+r zebrafishRNASeq -R && D:\biocbuild\bbs-3.13-bioc\R\bin\R.exe CMD build --keep-empty-dirs --no-resave-data zebrafishRNASeq |
StartedAt: 2021-03-01 11:15:13 -0500 (Mon, 01 Mar 2021) |
EndedAt: 2021-03-01 11:15:23 -0500 (Mon, 01 Mar 2021) |
EllapsedTime: 10.3 seconds |
RetCode: 0 |
Status: OK |
PackageFile: zebrafishRNASeq_1.11.0.tar.gz |
PackageFileSize: 353.8 KiB |
############################################################################## ############################################################################## ### ### Running command: ### ### chmod a+r zebrafishRNASeq -R && D:\biocbuild\bbs-3.13-bioc\R\bin\R.exe CMD build --keep-empty-dirs --no-resave-data zebrafishRNASeq ### ############################################################################## ############################################################################## * checking for file 'zebrafishRNASeq/DESCRIPTION' ... OK * preparing 'zebrafishRNASeq': * checking DESCRIPTION meta-information ... OK * installing the package to build vignettes * creating vignettes ... OK * checking for LF line-endings in source and make files and shell scripts * checking for empty or unneeded directories * looking to see if a 'data/datalist' file should be added * building 'zebrafishRNASeq_1.11.0.tar.gz'