Back to Multiple platform build/check report for BioC 3.13 experimental data
ABCDEFGHIJKLMNOPQRSTUVWX[Y]Z

INSTALL report for yri1kgv on riesling1

This page was generated on 2021-01-11 15:59:34 -0500 (Mon, 11 Jan 2021).

TO THE DEVELOPERS/MAINTAINERS OF THE yri1kgv PACKAGE: Please make sure to use the following settings in order to reproduce any error or warning you see on this page.
Package 384/385HostnameOS / ArchINSTALLBUILDCHECK
yri1kgv 0.33.1
VJ Carey
Snapshot Date: 2021-01-11 09:00:09 -0500 (Mon, 11 Jan 2021)
URL: https://git.bioconductor.org/packages/yri1kgv
Branch: master
Last Commit: 5f6db5d
Last Changed Date: 2020-11-30 08:26:53 -0500 (Mon, 30 Nov 2020)
malbec2 Linux (Ubuntu 20.04.1 LTS) / x86_64  ERROR  OK  ERROR 
riesling1 Windows Server 2019 Standard / x64 [ ERROR ] OK  ERROR 

Summary

Package: yri1kgv
Version: 0.33.1
Command: C:\cygwin\bin\curl.exe -O http://172.29.0.4/BBS/3.13/data-experiment/src/contrib/yri1kgv_0.33.1.tar.gz && rm -rf yri1kgv.buildbin-libdir && mkdir yri1kgv.buildbin-libdir && D:\biocbuild\bbs-3.13-bioc\R\bin\R.exe CMD INSTALL --merge-multiarch --build --library=yri1kgv.buildbin-libdir yri1kgv_0.33.1.tar.gz && D:\biocbuild\bbs-3.13-bioc\R\bin\R.exe CMD INSTALL yri1kgv_0.33.1.zip && rm yri1kgv_0.33.1.tar.gz yri1kgv_0.33.1.zip
StartedAt: 2021-01-11 10:26:37 -0500 (Mon, 11 Jan 2021)
EndedAt: 2021-01-11 10:26:50 -0500 (Mon, 11 Jan 2021)
EllapsedTime: 12.8 seconds
RetCode: 1
Status:  ERROR  

Command output

##############################################################################
##############################################################################
###
### Running command:
###
###   C:\cygwin\bin\curl.exe -O http://172.29.0.4/BBS/3.13/data-experiment/src/contrib/yri1kgv_0.33.1.tar.gz && rm -rf yri1kgv.buildbin-libdir && mkdir yri1kgv.buildbin-libdir && D:\biocbuild\bbs-3.13-bioc\R\bin\R.exe CMD INSTALL --merge-multiarch --build --library=yri1kgv.buildbin-libdir yri1kgv_0.33.1.tar.gz && D:\biocbuild\bbs-3.13-bioc\R\bin\R.exe CMD INSTALL yri1kgv_0.33.1.zip && rm yri1kgv_0.33.1.tar.gz yri1kgv_0.33.1.zip
###
##############################################################################
##############################################################################


  % Total    % Received % Xferd  Average Speed   Time    Time     Time  Current
                                 Dload  Upload   Total   Spent    Left  Speed

  0     0    0     0    0     0      0      0 --:--:-- --:--:-- --:--:--     0
  0  323M    0  1211    0     0   2226      0 42:18:03 --:--:-- 42:18:03  2222
 15  323M   15 51.3M    0     0  34.9M      0  0:00:09  0:00:01  0:00:08 34.9M
 36  323M   36  118M    0     0  47.6M      0  0:00:06  0:00:02  0:00:04 47.6M
 63  323M   63  204M    0     0  59.0M      0  0:00:05  0:00:03  0:00:02 59.0M
 92  323M   92  298M    0     0  65.9M      0  0:00:04  0:00:04 --:--:-- 65.9M
100  323M  100  323M    0     0  67.9M      0  0:00:04  0:00:04 --:--:-- 76.7M

install for i386

ERROR: dependency 'GGBase' is not available for package 'yri1kgv'
* removing 'D:/biocbuild/bbs-3.13-data-experiment/meat/yri1kgv.buildbin-libdir/yri1kgv'