Back to Multiple platform build/check report for BioC 3.13 experimental data
ABCDEFGHIJKLMNOPQRSTUVWX[Y]Z

BUILD report for yri1kgv on riesling1

This page was generated on 2021-01-14 15:59:12 -0500 (Thu, 14 Jan 2021).

TO THE DEVELOPERS/MAINTAINERS OF THE yri1kgv PACKAGE: Please make sure to use the following settings in order to reproduce any error or warning you see on this page.
Package 384/385HostnameOS / ArchINSTALLBUILDCHECK
yri1kgv 0.33.1
VJ Carey
Snapshot Date: 2021-01-14 09:00:13 -0500 (Thu, 14 Jan 2021)
URL: https://git.bioconductor.org/packages/yri1kgv
Branch: master
Last Commit: 5f6db5d
Last Changed Date: 2020-11-30 08:26:53 -0500 (Mon, 30 Nov 2020)
malbec2 Linux (Ubuntu 20.04.1 LTS) / x86_64  ERROR  OK  ERROR 
riesling1 Windows Server 2019 Standard / x64  ERROR [ OK ] ERROR 

Summary

Package: yri1kgv
Version: 0.33.1
Command: chmod a+r yri1kgv -R && D:\biocbuild\bbs-3.13-bioc\R\bin\R.exe CMD build --keep-empty-dirs --no-resave-data yri1kgv
StartedAt: 2021-01-14 10:59:57 -0500 (Thu, 14 Jan 2021)
EndedAt: 2021-01-14 11:00:36 -0500 (Thu, 14 Jan 2021)
EllapsedTime: 39.6 seconds
RetCode: 0
Status:  OK  
PackageFile: yri1kgv_0.33.1.tar.gz
PackageFileSize: 323.3 MiB

Command output

##############################################################################
##############################################################################
###
### Running command:
###
###   chmod a+r yri1kgv -R && D:\biocbuild\bbs-3.13-bioc\R\bin\R.exe CMD build --keep-empty-dirs --no-resave-data yri1kgv
###
##############################################################################
##############################################################################


* checking for file 'yri1kgv/DESCRIPTION' ... OK
* preparing 'yri1kgv':
* checking DESCRIPTION meta-information ... OK
* checking for LF line-endings in source and make files and shell scripts
* checking for empty or unneeded directories
* looking to see if a 'data/datalist' file should be added
* building 'yri1kgv_0.33.1.tar.gz'