Back to Multiple platform build/check report for BioC 3.13 experimental data
ABCDEFGHIJKLMNOPQRSTUVWX[Y]Z

INSTALL report for yeastRNASeq on riesling1

This page was generated on 2021-03-01 15:56:11 -0500 (Mon, 01 Mar 2021).

To the developers/maintainers of the yeastRNASeq package:
Please make sure to use the following settings in order to reproduce any error or warning you see on this page.
Package 389/391HostnameOS / ArchINSTALLBUILDCHECK
yeastRNASeq 0.29.0
J. Bullard
Snapshot Date: 2021-03-01 09:00:05 -0500 (Mon, 01 Mar 2021)
URL: https://git.bioconductor.org/packages/yeastRNASeq
Branch: master
Last Commit: cc19a70
Last Changed Date: 2020-10-27 09:51:20 -0500 (Tue, 27 Oct 2020)
rex3Linux (Ubuntu 20.04.2 LTS) / x86_64  OK    OK    WARNINGS  UNNEEDED, same version exists in internal repository
riesling1Windows Server 2019 Standard / x64  OK    OK    WARNINGS  

Summary

Package: yeastRNASeq
Version: 0.29.0
Command: C:\cygwin\bin\curl.exe -O http://155.52.173.35/BBS/3.13/data-experiment/src/contrib/yeastRNASeq_0.29.0.tar.gz && rm -rf yeastRNASeq.buildbin-libdir && mkdir yeastRNASeq.buildbin-libdir && D:\biocbuild\bbs-3.13-bioc\R\bin\R.exe CMD INSTALL --merge-multiarch --build --library=yeastRNASeq.buildbin-libdir yeastRNASeq_0.29.0.tar.gz && D:\biocbuild\bbs-3.13-bioc\R\bin\R.exe CMD INSTALL yeastRNASeq_0.29.0.zip && rm yeastRNASeq_0.29.0.tar.gz yeastRNASeq_0.29.0.zip
StartedAt: 2021-03-01 09:55:31 -0500 (Mon, 01 Mar 2021)
EndedAt: 2021-03-01 09:57:10 -0500 (Mon, 01 Mar 2021)
EllapsedTime: 99.1 seconds
RetCode: 0
Status:   OK   

Command output

##############################################################################
##############################################################################
###
### Running command:
###
###   C:\cygwin\bin\curl.exe -O http://155.52.173.35/BBS/3.13/data-experiment/src/contrib/yeastRNASeq_0.29.0.tar.gz && rm -rf yeastRNASeq.buildbin-libdir && mkdir yeastRNASeq.buildbin-libdir && D:\biocbuild\bbs-3.13-bioc\R\bin\R.exe CMD INSTALL --merge-multiarch --build --library=yeastRNASeq.buildbin-libdir yeastRNASeq_0.29.0.tar.gz && D:\biocbuild\bbs-3.13-bioc\R\bin\R.exe CMD INSTALL yeastRNASeq_0.29.0.zip && rm yeastRNASeq_0.29.0.tar.gz yeastRNASeq_0.29.0.zip
###
##############################################################################
##############################################################################


  % Total    % Received % Xferd  Average Speed   Time    Time     Time  Current
                                 Dload  Upload   Total   Spent    Left  Speed

  0     0    0     0    0     0      0      0 --:--:-- --:--:-- --:--:--     0
  0  306M    0 14601    0     0   200k      0  0:26:04 --:--:--  0:26:04  198k
  3  306M    3 10.0M    0     0  8276k      0  0:00:37  0:00:01  0:00:36 8269k
  7  306M    7 24.4M    0     0  11.8M      0  0:00:25  0:00:02  0:00:23 11.8M
 11  306M   11 34.2M    0     0  11.0M      0  0:00:27  0:00:03  0:00:24 11.0M
 13  306M   13 40.7M    0     0  10.0M      0  0:00:30  0:00:04  0:00:26 10.0M
 16  306M   16 49.8M    0     0   9.8M      0  0:00:31  0:00:05  0:00:26  9.9M
 19  306M   19 59.3M    0     0   9.7M      0  0:00:31  0:00:06  0:00:25 10.2M
 22  306M   22 67.9M    0     0  9860k      0  0:00:31  0:00:07  0:00:24 8930k
 25  306M   25 77.9M    0     0  9901k      0  0:00:31  0:00:08  0:00:23 9011k
 28  306M   28 88.0M    0     0  9951k      0  0:00:31  0:00:09  0:00:22 9673k
 32  306M   32 99.0M    0     0   9.8M      0  0:00:31  0:00:10  0:00:21  9.8M
 36  306M   36  112M    0     0  10.1M      0  0:00:30  0:00:11  0:00:19 10.5M
 40  306M   40  122M    0     0  10.1M      0  0:00:30  0:00:12  0:00:18 10.9M
 44  306M   44  135M    0     0  10.3M      0  0:00:29  0:00:13  0:00:16 11.4M
 48  306M   48  147M    0     0  10.5M      0  0:00:29  0:00:14  0:00:15 11.9M
 52  306M   52  161M    0     0  10.7M      0  0:00:28  0:00:15  0:00:13 12.4M
 57  306M   57  175M    0     0  10.9M      0  0:00:28  0:00:16  0:00:12 12.6M
 60  306M   60  184M    0     0  10.8M      0  0:00:28  0:00:17  0:00:11 12.3M
 62  306M   62  192M    0     0  10.6M      0  0:00:28  0:00:18  0:00:10 11.3M
 65  306M   65  199M    0     0  10.4M      0  0:00:29  0:00:19  0:00:10 10.3M
 67  306M   67  207M    0     0  10.3M      0  0:00:29  0:00:20  0:00:09 9534k
 70  306M   70  217M    0     0  10.3M      0  0:00:29  0:00:21  0:00:08 8718k
 74  306M   74  229M    0     0  10.3M      0  0:00:29  0:00:22  0:00:07 9061k
 78  306M   78  241M    0     0  10.4M      0  0:00:29  0:00:23  0:00:06  9.8M
 82  306M   82  252M    0     0  10.4M      0  0:00:29  0:00:24  0:00:05 10.5M
 85  306M   85  260M    0     0  10.4M      0  0:00:29  0:00:25  0:00:04 10.6M
 87  306M   87  267M    0     0  10.2M      0  0:00:29  0:00:26  0:00:03  9.9M
 89  306M   89  275M    0     0  10.1M      0  0:00:30  0:00:27  0:00:03 9443k
 91  306M   91  280M    0     0   9.9M      0  0:00:30  0:00:28  0:00:02 8011k
 92  306M   92  283M    0     0   9.7M      0  0:00:31  0:00:29  0:00:02 6483k
 94  306M   94  288M    0     0  9840k      0  0:00:31  0:00:30  0:00:01 5722k
 96  306M   96  294M    0     0  9722k      0  0:00:32  0:00:31  0:00:01 5591k
 98  306M   98  300M    0     0  9610k      0  0:00:32  0:00:32 --:--:-- 5285k
 99  306M   99  303M    0     0  9413k      0  0:00:33  0:00:33 --:--:-- 4792k
100  306M  100  306M    0     0  9235k      0  0:00:34  0:00:34 --:--:-- 4733k

install for i386

* installing *source* package 'yeastRNASeq' ...
** using staged installation
** data
** inst
** help
*** installing help indices
  converting help for package 'yeastRNASeq'
    finding HTML links ... done
    geneLevelData                           html  
REDIRECT:topic	 geneLevelData -> geneLevelData.html [ SUCCESS ]
    yeastAligned                            html  
REDIRECT:topic	 yeastAligned -> yeastAligned.html [ SUCCESS ]
    yeastAnno                               html  
REDIRECT:topic	 yeastAnno -> yeastAnno.html [ SUCCESS ]
** building package indices
** installing vignettes
** testing if installed package can be loaded from temporary location
** testing if installed package can be loaded from final location
** testing if installed package keeps a record of temporary installation path

install for x64

* installing *source* package 'yeastRNASeq' ...
** testing if installed package can be loaded
* MD5 sums
packaged installation of 'yeastRNASeq' as yeastRNASeq_0.29.0.zip
* DONE (yeastRNASeq)
* installing to library 'D:/biocbuild/bbs-3.13-bioc/R/library'
package 'yeastRNASeq' successfully unpacked and MD5 sums checked